BEGIN:VCALENDAR
VERSION:2.0
PRODID:-//St Stephen&#039;s Catholic Primary School - ECPv6.15.19//NONSGML v1.0//EN
CALSCALE:GREGORIAN
METHOD:PUBLISH
X-WR-CALNAME:St Stephen&#039;s Catholic Primary School
X-ORIGINAL-URL:https://ststephenscps.com
X-WR-CALDESC:Events for St Stephen&#039;s Catholic Primary School
REFRESH-INTERVAL;VALUE=DURATION:PT1H
X-Robots-Tag:noindex
X-PUBLISHED-TTL:PT1H
BEGIN:VTIMEZONE
TZID:Europe/London
BEGIN:DAYLIGHT
TZOFFSETFROM:+0000
TZOFFSETTO:+0100
TZNAME:BST
DTSTART:20240331T010000
END:DAYLIGHT
BEGIN:STANDARD
TZOFFSETFROM:+0100
TZOFFSETTO:+0000
TZNAME:GMT
DTSTART:20241027T010000
END:STANDARD
BEGIN:DAYLIGHT
TZOFFSETFROM:+0000
TZOFFSETTO:+0100
TZNAME:BST
DTSTART:20250330T010000
END:DAYLIGHT
BEGIN:STANDARD
TZOFFSETFROM:+0100
TZOFFSETTO:+0000
TZNAME:GMT
DTSTART:20251026T010000
END:STANDARD
BEGIN:DAYLIGHT
TZOFFSETFROM:+0000
TZOFFSETTO:+0100
TZNAME:BST
DTSTART:20260329T010000
END:DAYLIGHT
BEGIN:STANDARD
TZOFFSETFROM:+0100
TZOFFSETTO:+0000
TZNAME:GMT
DTSTART:20261025T010000
END:STANDARD
BEGIN:DAYLIGHT
TZOFFSETFROM:+0000
TZOFFSETTO:+0100
TZNAME:BST
DTSTART:20270328T010000
END:DAYLIGHT
BEGIN:STANDARD
TZOFFSETFROM:+0100
TZOFFSETTO:+0000
TZNAME:GMT
DTSTART:20271031T010000
END:STANDARD
END:VTIMEZONE
BEGIN:VEVENT
DTSTART;TZID=Europe/London:20260211T100000
DTEND;TZID=Europe/London:20260211T110000
DTSTAMP:20260423T233609
CREATED:20260120T135821Z
LAST-MODIFIED:20260120T135821Z
UID:6223-1770804000-1770807600@ststephenscps.com
SUMMARY:Y3 attending Mass at Church
DESCRIPTION:
URL:https://ststephenscps.com/event/y3-attending-mass-at-church/
END:VEVENT
BEGIN:VEVENT
DTSTART;VALUE=DATE:20260211
DTEND;VALUE=DATE:20260212
DTSTAMP:20260423T233609
CREATED:20260120T135726Z
LAST-MODIFIED:20260120T135726Z
UID:6221-1770768000-1770854399@ststephenscps.com
SUMMARY:Y5 & Y2 Forest Skills
DESCRIPTION:
URL:https://ststephenscps.com/event/y5-y2-forest-skills/
END:VEVENT
BEGIN:VEVENT
DTSTART;TZID=Europe/London:20260209T090000
DTEND;TZID=Europe/London:20260209T093000
DTSTAMP:20260423T233609
CREATED:20260120T135545Z
LAST-MODIFIED:20260120T135545Z
UID:6217-1770627600-1770629400@ststephenscps.com
SUMMARY:Y6 SATs Meeting for Y6 parents/carers
DESCRIPTION:
URL:https://ststephenscps.com/event/y6-sats-meeting-for-y6-parents-carers/
END:VEVENT
BEGIN:VEVENT
DTSTART;TZID=Europe/London:20260206T090000
DTEND;TZID=Europe/London:20260206T093000
DTSTAMP:20260423T233609
CREATED:20260120T133700Z
LAST-MODIFIED:20260120T133700Z
UID:6209-1770368400-1770370200@ststephenscps.com
SUMMARY:Y4 Parent Meeting re Residential Trip and Multiplication Check
DESCRIPTION:
URL:https://ststephenscps.com/event/y4-parent-meeting-re-residential-trip-and-multiplication-check/
END:VEVENT
BEGIN:VEVENT
DTSTART;VALUE=DATE:20260206
DTEND;VALUE=DATE:20260207
DTSTAMP:20260423T233609
CREATED:20260120T133812Z
LAST-MODIFIED:20260120T133812Z
UID:6211-1770336000-1770422399@ststephenscps.com
SUMMARY:Y4 Residential Trip second instalment due today
DESCRIPTION:
URL:https://ststephenscps.com/event/y4-residential-trip-second-instalment-due-today/
END:VEVENT
BEGIN:VEVENT
DTSTART;VALUE=DATE:20260206
DTEND;VALUE=DATE:20260207
DTSTAMP:20260423T233609
CREATED:20260120T133505Z
LAST-MODIFIED:20260120T133505Z
UID:6207-1770336000-1770422399@ststephenscps.com
SUMMARY:NSPCC Number Day - own clothes for £1 donation
DESCRIPTION:
URL:https://ststephenscps.com/event/nspcc-number-day-own-clothes-for-1-donation/
END:VEVENT
BEGIN:VEVENT
DTSTART;TZID=Europe/London:20260204T100000
DTEND;TZID=Europe/London:20260204T110000
DTSTAMP:20260423T233609
CREATED:20260120T133351Z
LAST-MODIFIED:20260120T133351Z
UID:6205-1770199200-1770202800@ststephenscps.com
SUMMARY:Y4 attending Mass at Church
DESCRIPTION:
URL:https://ststephenscps.com/event/y4-attending-mass-at-church/
END:VEVENT
BEGIN:VEVENT
DTSTART;VALUE=DATE:20260204
DTEND;VALUE=DATE:20260205
DTSTAMP:20260423T233609
CREATED:20260120T133255Z
LAST-MODIFIED:20260120T133255Z
UID:6203-1770163200-1770249599@ststephenscps.com
SUMMARY:Y6 & Y3 Forest Skills
DESCRIPTION:
URL:https://ststephenscps.com/event/y6-y3-forest-skills/
END:VEVENT
BEGIN:VEVENT
DTSTART;VALUE=DATE:20260202
DTEND;VALUE=DATE:20260203
DTSTAMP:20260423T233609
CREATED:20260120T133158Z
LAST-MODIFIED:20260120T133158Z
UID:6201-1769990400-1770076799@ststephenscps.com
SUMMARY:Children's Mental Health Week & National Storytelling Week
DESCRIPTION:
URL:https://ststephenscps.com/event/childrens-mental-health-week-national-storytelling-week/
END:VEVENT
BEGIN:VEVENT
DTSTART;TZID=Europe/London:20260130T131500
DTEND;TZID=Europe/London:20260130T151500
DTSTAMP:20260423T233609
CREATED:20260120T133049Z
LAST-MODIFIED:20260120T133049Z
UID:6199-1769778900-1769786100@ststephenscps.com
SUMMARY:KS2 Online Safety Production by ALtru Drama
DESCRIPTION:
URL:https://ststephenscps.com/event/ks2-online-safety-production-by-altru-drama-3/
END:VEVENT
BEGIN:VEVENT
DTSTART;TZID=Europe/London:20260128T100000
DTEND;TZID=Europe/London:20260128T110000
DTSTAMP:20260423T233609
CREATED:20260120T132928Z
LAST-MODIFIED:20260120T132928Z
UID:6197-1769594400-1769598000@ststephenscps.com
SUMMARY:Y5 attending Mass at Church
DESCRIPTION:
URL:https://ststephenscps.com/event/y5-attending-mass-at-church/
END:VEVENT
BEGIN:VEVENT
DTSTART;VALUE=DATE:20260128
DTEND;VALUE=DATE:20260129
DTSTAMP:20260423T233609
CREATED:20260120T132833Z
LAST-MODIFIED:20260120T132833Z
UID:6195-1769558400-1769644799@ststephenscps.com
SUMMARY:Y4 & Y1 Forest Skills
DESCRIPTION:
URL:https://ststephenscps.com/event/y4-y1-forest-skills/
END:VEVENT
BEGIN:VEVENT
DTSTART;TZID=Europe/London:20260121T100000
DTEND;TZID=Europe/London:20260121T110000
DTSTAMP:20260423T233609
CREATED:20260120T132741Z
LAST-MODIFIED:20260120T132741Z
UID:6193-1768989600-1768993200@ststephenscps.com
SUMMARY:Y6 attending Mass at Church
DESCRIPTION:
URL:https://ststephenscps.com/event/y6-attending-mass-at-church/
END:VEVENT
BEGIN:VEVENT
DTSTART;VALUE=DATE:20260120
DTEND;VALUE=DATE:20260121
DTSTAMP:20260423T233609
CREATED:20260120T135633Z
LAST-MODIFIED:20260120T135633Z
UID:6219-1768867200-1768953599@ststephenscps.com
SUMMARY:Safter Internet Day 2026
DESCRIPTION:
URL:https://ststephenscps.com/event/safter-internet-day-2026/
END:VEVENT
BEGIN:VEVENT
DTSTART;VALUE=DATE:20260120
DTEND;VALUE=DATE:20260121
DTSTAMP:20260423T233609
CREATED:20260120T132635Z
LAST-MODIFIED:20260120T132635Z
UID:6191-1768867200-1768953599@ststephenscps.com
SUMMARY:Spring Term After School Clubs start this week
DESCRIPTION:
URL:https://ststephenscps.com/event/spring-term-after-school-clubs-start-this-week/
END:VEVENT
BEGIN:VEVENT
DTSTART;TZID=Europe/London:20251219T090000
DTEND;TZID=Europe/London:20251219T120000
DTSTAMP:20260423T233609
CREATED:20250925T124516Z
LAST-MODIFIED:20250925T124516Z
UID:6031-1766134800-1766145600@ststephenscps.com
SUMMARY:Christmas Pantomime in school
DESCRIPTION:
URL:https://ststephenscps.com/event/christmas-pantomime-in-school-2/
END:VEVENT
BEGIN:VEVENT
DTSTART;VALUE=DATE:20251219
DTEND;VALUE=DATE:20251220
DTSTAMP:20260423T233609
CREATED:20250925T124601Z
LAST-MODIFIED:20250925T124601Z
UID:6033-1766102400-1766188799@ststephenscps.com
SUMMARY:School closes for Christmas holidays
DESCRIPTION:
URL:https://ststephenscps.com/event/school-closes-for-christmas-holidays-2/
END:VEVENT
BEGIN:VEVENT
DTSTART;TZID=Europe/London:20251217T130000
DTEND;TZID=Europe/London:20251217T151500
DTSTAMP:20260423T233609
CREATED:20250925T124411Z
LAST-MODIFIED:20250925T124411Z
UID:6029-1765976400-1765984500@ststephenscps.com
SUMMARY:Christmas Party/Disco Day with out resident DJ
DESCRIPTION:
URL:https://ststephenscps.com/event/christmas-party-disco-day-with-out-resident-dj/
END:VEVENT
BEGIN:VEVENT
DTSTART;TZID=Europe/London:20251216T143000
DTEND;TZID=Europe/London:20251216T151500
DTSTAMP:20260423T233609
CREATED:20250925T124241Z
LAST-MODIFIED:20250925T124241Z
UID:6027-1765895400-1765898100@ststephenscps.com
SUMMARY:KS2 Carol Concert in Church
DESCRIPTION:
URL:https://ststephenscps.com/event/ks2-carol-concert-in-church-5/
END:VEVENT
BEGIN:VEVENT
DTSTART;VALUE=DATE:20251212
DTEND;VALUE=DATE:20251213
DTSTAMP:20260423T233609
CREATED:20250925T123937Z
LAST-MODIFIED:20250925T123937Z
UID:6025-1765497600-1765583999@ststephenscps.com
SUMMARY:Christmas Jumper/Christmas Dinner/St. Rocco's Elf Run
DESCRIPTION:
URL:https://ststephenscps.com/event/christmas-jumper-christmas-dinner-st-roccos-elf-run-3/
END:VEVENT
BEGIN:VEVENT
DTSTART;TZID=Europe/London:20251211T141500
DTEND;TZID=Europe/London:20251211T151500
DTSTAMP:20260423T233609
CREATED:20250925T123741Z
LAST-MODIFIED:20250925T123741Z
UID:6023-1765462500-1765466100@ststephenscps.com
SUMMARY:KS1 Christmas Performance
DESCRIPTION:
URL:https://ststephenscps.com/event/ks1-christmas-performance-2/
END:VEVENT
BEGIN:VEVENT
DTSTART;TZID=Europe/London:20251210T141500
DTEND;TZID=Europe/London:20251210T151500
DTSTAMP:20260423T233609
CREATED:20250925T123538Z
LAST-MODIFIED:20250925T123538Z
UID:6021-1765376100-1765379700@ststephenscps.com
SUMMARY:KS1 Christmas Performance
DESCRIPTION:
URL:https://ststephenscps.com/event/ks1-christmas-performance/
END:VEVENT
BEGIN:VEVENT
DTSTART;TZID=Europe/London:20251210T090000
DTEND;TZID=Europe/London:20251210T123000
DTSTAMP:20260423T233609
CREATED:20251113T135340Z
LAST-MODIFIED:20251113T135340Z
UID:6114-1765357200-1765369800@ststephenscps.com
SUMMARY:Y4 attending Advent Service at Liverpool Cathedral
DESCRIPTION:
URL:https://ststephenscps.com/event/y4-attending-advent-service-at-liverpool-cathedral/
END:VEVENT
BEGIN:VEVENT
DTSTART;TZID=Europe/London:20251209T141500
DTEND;TZID=Europe/London:20251209T150000
DTSTAMP:20260423T233609
CREATED:20251113T135146Z
LAST-MODIFIED:20251113T135146Z
UID:6112-1765289700-1765292400@ststephenscps.com
SUMMARY:Y5 & Y6 Reconciliation Service
DESCRIPTION:
URL:https://ststephenscps.com/event/y5-y6-reconciliation-service/
END:VEVENT
BEGIN:VEVENT
DTSTART;TZID=Europe/London:20251209T133000
DTEND;TZID=Europe/London:20251209T140000
DTSTAMP:20260423T233609
CREATED:20251113T133318Z
LAST-MODIFIED:20251113T133318Z
UID:6110-1765287000-1765288800@ststephenscps.com
SUMMARY:Y6 Christmas Gospel Concert. Y6 parents invited.
DESCRIPTION:
URL:https://ststephenscps.com/event/y6-christmas-gospel-concert-y6-parents-invited/
END:VEVENT
BEGIN:VEVENT
DTSTART;TZID=Europe/London:20251208T140000
DTEND;TZID=Europe/London:20251208T143000
DTSTAMP:20260423T233609
CREATED:20251113T133121Z
LAST-MODIFIED:20251113T133121Z
UID:6108-1765202400-1765204200@ststephenscps.com
SUMMARY:School Choir singing for The Golden Girls
DESCRIPTION:
URL:https://ststephenscps.com/event/school-choir-singing-for-the-golden-girls/
END:VEVENT
BEGIN:VEVENT
DTSTART;TZID=Europe/London:20251205T091500
DTEND;TZID=Europe/London:20251205T094500
DTSTAMP:20260423T233609
CREATED:20250925T123429Z
LAST-MODIFIED:20250925T123429Z
UID:6019-1764926100-1764927900@ststephenscps.com
SUMMARY:Y5 Class Assembly
DESCRIPTION:
URL:https://ststephenscps.com/event/y5-class-assembly/
END:VEVENT
BEGIN:VEVENT
DTSTART;TZID=Europe/London:20251203T151500
DTEND;TZID=Europe/London:20251203T170000
DTSTAMP:20260423T233609
CREATED:20250925T123207Z
LAST-MODIFIED:20250925T123207Z
UID:6017-1764774900-1764781200@ststephenscps.com
SUMMARY:Christmas Movie Night
DESCRIPTION:
URL:https://ststephenscps.com/event/christmas-movie-night-4/
END:VEVENT
BEGIN:VEVENT
DTSTART;VALUE=DATE:20251201
DTEND;VALUE=DATE:20251202
DTSTAMP:20260423T233609
CREATED:20250925T123102Z
LAST-MODIFIED:20250925T123102Z
UID:6015-1764547200-1764633599@ststephenscps.com
SUMMARY:Autumn Term after school clubs finish this week
DESCRIPTION:
URL:https://ststephenscps.com/event/autumn-term-after-school-clubs-finish-this-week-3/
END:VEVENT
BEGIN:VEVENT
DTSTART;TZID=Europe/London:20251127T091500
DTEND;TZID=Europe/London:20251127T110000
DTSTAMP:20260423T233609
CREATED:20251113T132836Z
LAST-MODIFIED:20251113T132836Z
UID:6106-1764234900-1764241200@ststephenscps.com
SUMMARY:Parent Coffee Morning
DESCRIPTION:
URL:https://ststephenscps.com/event/parent-coffee-morning/
END:VEVENT
END:VCALENDAR