BEGIN:VCALENDAR
VERSION:2.0
PRODID:-//St Stephen&#039;s Catholic Primary School - ECPv6.15.19//NONSGML v1.0//EN
CALSCALE:GREGORIAN
METHOD:PUBLISH
X-WR-CALNAME:St Stephen&#039;s Catholic Primary School
X-ORIGINAL-URL:https://ststephenscps.com
X-WR-CALDESC:Events for St Stephen&#039;s Catholic Primary School
REFRESH-INTERVAL;VALUE=DURATION:PT1H
X-Robots-Tag:noindex
X-PUBLISHED-TTL:PT1H
BEGIN:VTIMEZONE
TZID:Europe/London
BEGIN:DAYLIGHT
TZOFFSETFROM:+0000
TZOFFSETTO:+0100
TZNAME:BST
DTSTART:20250330T010000
END:DAYLIGHT
BEGIN:STANDARD
TZOFFSETFROM:+0100
TZOFFSETTO:+0000
TZNAME:GMT
DTSTART:20251026T010000
END:STANDARD
BEGIN:DAYLIGHT
TZOFFSETFROM:+0000
TZOFFSETTO:+0100
TZNAME:BST
DTSTART:20260329T010000
END:DAYLIGHT
BEGIN:STANDARD
TZOFFSETFROM:+0100
TZOFFSETTO:+0000
TZNAME:GMT
DTSTART:20261025T010000
END:STANDARD
BEGIN:DAYLIGHT
TZOFFSETFROM:+0000
TZOFFSETTO:+0100
TZNAME:BST
DTSTART:20270328T010000
END:DAYLIGHT
BEGIN:STANDARD
TZOFFSETFROM:+0100
TZOFFSETTO:+0000
TZNAME:GMT
DTSTART:20271031T010000
END:STANDARD
END:VTIMEZONE
BEGIN:VEVENT
DTSTART;TZID=Europe/London:20260430T130000
DTEND;TZID=Europe/London:20260430T140000
DTSTAMP:20260424T011701
CREATED:20260420T124000Z
LAST-MODIFIED:20260420T124000Z
UID:6594-1777554000-1777557600@ststephenscps.com
SUMMARY:Y4 Swimming Lessons begin
DESCRIPTION:
URL:https://ststephenscps.com/event/y4-swimming-lessons-begin/
END:VEVENT
BEGIN:VEVENT
DTSTART;VALUE=DATE:20260501
DTEND;VALUE=DATE:20260502
DTSTAMP:20260424T011701
CREATED:20260420T124102Z
LAST-MODIFIED:20260420T124102Z
UID:6596-1777593600-1777679999@ststephenscps.com
SUMMARY:Y6 residential trip final payment due today
DESCRIPTION:
URL:https://ststephenscps.com/event/y6-residential-trip-final-payment-due-today/
END:VEVENT
BEGIN:VEVENT
DTSTART;TZID=Europe/London:20260502T110000
DTEND;TZID=Europe/London:20260502T130000
DTSTAMP:20260424T011701
CREATED:20260420T124216Z
LAST-MODIFIED:20260420T124216Z
UID:6598-1777719600-1777726800@ststephenscps.com
SUMMARY:Y4 Holy Communion Mass
DESCRIPTION:
URL:https://ststephenscps.com/event/y4-holy-communion-mass-3/
END:VEVENT
BEGIN:VEVENT
DTSTART;VALUE=DATE:20260504
DTEND;VALUE=DATE:20260505
DTSTAMP:20260424T011701
CREATED:20260420T124306Z
LAST-MODIFIED:20260420T124306Z
UID:6600-1777852800-1777939199@ststephenscps.com
SUMMARY:Bank Holiday Monday - school closed
DESCRIPTION:
URL:https://ststephenscps.com/event/bank-holiday-monday-school-closed-2/
END:VEVENT
BEGIN:VEVENT
DTSTART;VALUE=DATE:20260506
DTEND;VALUE=DATE:20260507
DTSTAMP:20260424T011701
CREATED:20260420T124400Z
LAST-MODIFIED:20260420T124400Z
UID:6602-1778025600-1778111999@ststephenscps.com
SUMMARY:Y4 & Y1 Forest School
DESCRIPTION:
URL:https://ststephenscps.com/event/y4-y1-forest-school/
END:VEVENT
BEGIN:VEVENT
DTSTART;VALUE=DATE:20260508
DTEND;VALUE=DATE:20260509
DTSTAMP:20260424T011701
CREATED:20260420T124453Z
LAST-MODIFIED:20260420T124453Z
UID:6604-1778198400-1778284799@ststephenscps.com
SUMMARY:Y3 & Y5 Forest School
DESCRIPTION:
URL:https://ststephenscps.com/event/y3-y5-forest-school/
END:VEVENT
BEGIN:VEVENT
DTSTART;VALUE=DATE:20260511
DTEND;VALUE=DATE:20260512
DTSTAMP:20260424T011701
CREATED:20260420T124547Z
LAST-MODIFIED:20260420T124547Z
UID:6606-1778457600-1778543999@ststephenscps.com
SUMMARY:Mental Health Awareness Week
DESCRIPTION:
URL:https://ststephenscps.com/event/mental-health-awareness-week/
END:VEVENT
BEGIN:VEVENT
DTSTART;TZID=Europe/London:20260511T090000
DTEND;TZID=Europe/London:20260514T120000
DTSTAMP:20260424T011701
CREATED:20260420T124740Z
LAST-MODIFIED:20260420T124740Z
UID:6608-1778490000-1778760000@ststephenscps.com
SUMMARY:Y6 SATs Week
DESCRIPTION:
URL:https://ststephenscps.com/event/y6-sats-week-2/
END:VEVENT
BEGIN:VEVENT
DTSTART;VALUE=DATE:20260512
DTEND;VALUE=DATE:20260513
DTSTAMP:20260424T011701
CREATED:20260420T124831Z
LAST-MODIFIED:20260420T124831Z
UID:6610-1778544000-1778630399@ststephenscps.com
SUMMARY:Y4 & Y1 Forest School
DESCRIPTION:
URL:https://ststephenscps.com/event/y4-y1-forest-school-2/
END:VEVENT
BEGIN:VEVENT
DTSTART;TZID=Europe/London:20260514T110000
DTEND;TZID=Europe/London:20260514T120000
DTSTAMP:20260424T011701
CREATED:20260420T125012Z
LAST-MODIFIED:20260420T125012Z
UID:6612-1778756400-1778760000@ststephenscps.com
SUMMARY:Mass for Ascension & First Holy Communion
DESCRIPTION:
URL:https://ststephenscps.com/event/mass-for-ascension-first-holy-communion/
END:VEVENT
BEGIN:VEVENT
DTSTART;VALUE=DATE:20260515
DTEND;VALUE=DATE:20260516
DTSTAMP:20260424T011701
CREATED:20260420T125224Z
LAST-MODIFIED:20260420T125224Z
UID:6614-1778803200-1778889599@ststephenscps.com
SUMMARY:Non-uniform day
DESCRIPTION:
URL:https://ststephenscps.com/event/non-uniform-day/
END:VEVENT
BEGIN:VEVENT
DTSTART;VALUE=DATE:20260519
DTEND;VALUE=DATE:20260520
DTSTAMP:20260424T011701
CREATED:20260420T125338Z
LAST-MODIFIED:20260420T125338Z
UID:6616-1779148800-1779235199@ststephenscps.com
SUMMARY:Y2 & Y5 Forest School
DESCRIPTION:
URL:https://ststephenscps.com/event/y2-y5-forest-school-4/
END:VEVENT
BEGIN:VEVENT
DTSTART;VALUE=DATE:20260520
DTEND;VALUE=DATE:20260521
DTSTAMP:20260424T011701
CREATED:20260420T125435Z
LAST-MODIFIED:20260420T125435Z
UID:6618-1779235200-1779321599@ststephenscps.com
SUMMARY:Y6 Forest School
DESCRIPTION:
URL:https://ststephenscps.com/event/y6-forest-school/
END:VEVENT
BEGIN:VEVENT
DTSTART;TZID=Europe/London:20260522T091500
DTEND;TZID=Europe/London:20260522T094500
DTSTAMP:20260424T011701
CREATED:20260420T125600Z
LAST-MODIFIED:20260420T125600Z
UID:6620-1779441300-1779443100@ststephenscps.com
SUMMARY:Y2 Class Assembly with parents/carers
DESCRIPTION:
URL:https://ststephenscps.com/event/y2-class-assembly-with-parents-carers/
END:VEVENT
BEGIN:VEVENT
DTSTART;TZID=Europe/London:20260522T100000
DTEND;TZID=Europe/London:20260522T120000
DTSTAMP:20260424T011701
CREATED:20260420T125822Z
LAST-MODIFIED:20260420T125822Z
UID:6623-1779444000-1779451200@ststephenscps.com
SUMMARY:Sports Day morning with parent/carers
DESCRIPTION:
URL:https://ststephenscps.com/event/sports-day-morning-with-parent-carers/
END:VEVENT
BEGIN:VEVENT
DTSTART;TZID=Europe/London:20260522T151500
DTEND;TZID=Europe/London:20260522T170000
DTSTAMP:20260424T011701
CREATED:20260420T125935Z
LAST-MODIFIED:20260420T125935Z
UID:6625-1779462900-1779469200@ststephenscps.com
SUMMARY:School closes for Whit holidays
DESCRIPTION:
URL:https://ststephenscps.com/event/school-closes-for-whit-holidays/
END:VEVENT
BEGIN:VEVENT
DTSTART;VALUE=DATE:20260608
DTEND;VALUE=DATE:20260609
DTSTAMP:20260424T011701
CREATED:20260420T130450Z
LAST-MODIFIED:20260420T130450Z
UID:6629-1780876800-1780963199@ststephenscps.com
SUMMARY:Y1 Phonics Screening Week
DESCRIPTION:
URL:https://ststephenscps.com/event/y1-phonics-screening-week-2/
END:VEVENT
BEGIN:VEVENT
DTSTART;VALUE=DATE:20260608
DTEND;VALUE=DATE:20260609
DTSTAMP:20260424T011701
CREATED:20260420T132937Z
LAST-MODIFIED:20260420T132937Z
UID:6631-1780876800-1780963199@ststephenscps.com
SUMMARY:Y4 Multiplication Check Week
DESCRIPTION:
URL:https://ststephenscps.com/event/y4-multiplication-check-week-3/
END:VEVENT
BEGIN:VEVENT
DTSTART;TZID=Europe/London:20260609T133000
DTEND;TZID=Europe/London:20260609T143000
DTSTAMP:20260424T011701
CREATED:20260420T133059Z
LAST-MODIFIED:20260420T133059Z
UID:6633-1781011800-1781015400@ststephenscps.com
SUMMARY:Y5 Growing Up Talk with School Nurse
DESCRIPTION:
URL:https://ststephenscps.com/event/y5-growing-up-talk-with-school-nurse/
END:VEVENT
BEGIN:VEVENT
DTSTART;VALUE=DATE:20260610
DTEND;VALUE=DATE:20260611
DTSTAMP:20260424T011701
CREATED:20260420T133350Z
LAST-MODIFIED:20260420T133350Z
UID:6635-1781049600-1781135999@ststephenscps.com
SUMMARY:Y2 & Y3 Forest School
DESCRIPTION:
URL:https://ststephenscps.com/event/y2-y3-forest-school/
END:VEVENT
BEGIN:VEVENT
DTSTART;VALUE=DATE:20260615
DTEND;VALUE=DATE:20260616
DTSTAMP:20260424T011701
CREATED:20260420T133444Z
LAST-MODIFIED:20260420T133444Z
UID:6637-1781481600-1781567999@ststephenscps.com
SUMMARY:Y5 Retreat Day at Church with Cardinal Newman
DESCRIPTION:
URL:https://ststephenscps.com/event/y5-retreat-day-at-church-with-cardinal-newman-2/
END:VEVENT
BEGIN:VEVENT
DTSTART;VALUE=DATE:20260616
DTEND;VALUE=DATE:20260617
DTSTAMP:20260424T011701
CREATED:20260420T133547Z
LAST-MODIFIED:20260420T133547Z
UID:6639-1781568000-1781654399@ststephenscps.com
SUMMARY:Y5 Taster Day and Cardinal Newman
DESCRIPTION:
URL:https://ststephenscps.com/event/y5-taster-day-and-cardinal-newman/
END:VEVENT
BEGIN:VEVENT
DTSTART;VALUE=DATE:20260616
DTEND;VALUE=DATE:20260617
DTSTAMP:20260424T011701
CREATED:20260420T133642Z
LAST-MODIFIED:20260420T133642Z
UID:6641-1781568000-1781654399@ststephenscps.com
SUMMARY:Y2 trip to Safety Central
DESCRIPTION:
URL:https://ststephenscps.com/event/y2-trip-to-safety-central/
END:VEVENT
BEGIN:VEVENT
DTSTART;VALUE=DATE:20260617
DTEND;VALUE=DATE:20260618
DTSTAMP:20260424T011702
CREATED:20260420T133736Z
LAST-MODIFIED:20260420T133736Z
UID:6643-1781654400-1781740799@ststephenscps.com
SUMMARY:Judaism workshops for all classes
DESCRIPTION:
URL:https://ststephenscps.com/event/judaism-workshops-for-all-classes-3/
END:VEVENT
BEGIN:VEVENT
DTSTART;VALUE=DATE:20260618
DTEND;VALUE=DATE:20260619
DTSTAMP:20260424T011702
CREATED:20260420T133824Z
LAST-MODIFIED:20260420T133824Z
UID:6645-1781740800-1781827199@ststephenscps.com
SUMMARY:Y6 & Y1 Forest School
DESCRIPTION:
URL:https://ststephenscps.com/event/y6-y1-forest-school/
END:VEVENT
BEGIN:VEVENT
DTSTART;TZID=Europe/London:20260618T141500
DTEND;TZID=Europe/London:20260618T151500
DTSTAMP:20260424T011702
CREATED:20260420T133934Z
LAST-MODIFIED:20260420T133934Z
UID:6647-1781792100-1781795700@ststephenscps.com
SUMMARY:Parent Coffee Afternoon
DESCRIPTION:
URL:https://ststephenscps.com/event/parent-coffee-afternoon/
END:VEVENT
BEGIN:VEVENT
DTSTART;TZID=Europe/London:20260619T091500
DTEND;TZID=Europe/London:20260619T094500
DTSTAMP:20260424T011702
CREATED:20260420T134104Z
LAST-MODIFIED:20260420T134104Z
UID:6649-1781860500-1781862300@ststephenscps.com
SUMMARY:Reception Class Fathers' Day Stay and Pray
DESCRIPTION:
URL:https://ststephenscps.com/event/reception-class-fathers-day-stay-and-pray/
END:VEVENT
BEGIN:VEVENT
DTSTART;TZID=Europe/London:20260622T090000
DTEND;TZID=Europe/London:20260622T120000
DTSTAMP:20260424T011702
CREATED:20260420T134208Z
LAST-MODIFIED:20260420T134208Z
UID:6651-1782118800-1782129600@ststephenscps.com
SUMMARY:Tempest Photography Class Photos
DESCRIPTION:
URL:https://ststephenscps.com/event/tempest-photography-class-photos-2/
END:VEVENT
BEGIN:VEVENT
DTSTART;TZID=Europe/London:20260624T090000
DTEND;TZID=Europe/London:20260626T151500
DTSTAMP:20260424T011702
CREATED:20260420T134326Z
LAST-MODIFIED:20260420T134326Z
UID:6653-1782291600-1782486900@ststephenscps.com
SUMMARY:Y6 Residential Trip to Boreatton Park
DESCRIPTION:
URL:https://ststephenscps.com/event/y6-residential-trip-to-boreatton-park-2/
END:VEVENT
BEGIN:VEVENT
DTSTART;TZID=Europe/London:20260629T090000
DTEND;TZID=Europe/London:20260629T120000
DTSTAMP:20260424T011702
CREATED:20260420T134426Z
LAST-MODIFIED:20260420T134426Z
UID:6655-1782723600-1782734400@ststephenscps.com
SUMMARY:Prayer Stations for pupils only
DESCRIPTION:
URL:https://ststephenscps.com/event/prayer-stations-for-pupils-only/
END:VEVENT
END:VCALENDAR