BEGIN:VCALENDAR
VERSION:2.0
PRODID:-//St Stephen&#039;s Catholic Primary School - ECPv6.15.19//NONSGML v1.0//EN
CALSCALE:GREGORIAN
METHOD:PUBLISH
X-WR-CALNAME:St Stephen&#039;s Catholic Primary School
X-ORIGINAL-URL:https://ststephenscps.com
X-WR-CALDESC:Events for St Stephen&#039;s Catholic Primary School
REFRESH-INTERVAL;VALUE=DURATION:PT1H
X-Robots-Tag:noindex
X-PUBLISHED-TTL:PT1H
BEGIN:VTIMEZONE
TZID:Europe/London
BEGIN:DAYLIGHT
TZOFFSETFROM:+0000
TZOFFSETTO:+0100
TZNAME:BST
DTSTART:20250330T010000
END:DAYLIGHT
BEGIN:STANDARD
TZOFFSETFROM:+0100
TZOFFSETTO:+0000
TZNAME:GMT
DTSTART:20251026T010000
END:STANDARD
BEGIN:DAYLIGHT
TZOFFSETFROM:+0000
TZOFFSETTO:+0100
TZNAME:BST
DTSTART:20260329T010000
END:DAYLIGHT
BEGIN:STANDARD
TZOFFSETFROM:+0100
TZOFFSETTO:+0000
TZNAME:GMT
DTSTART:20261025T010000
END:STANDARD
BEGIN:DAYLIGHT
TZOFFSETFROM:+0000
TZOFFSETTO:+0100
TZNAME:BST
DTSTART:20270328T010000
END:DAYLIGHT
BEGIN:STANDARD
TZOFFSETFROM:+0100
TZOFFSETTO:+0000
TZNAME:GMT
DTSTART:20271031T010000
END:STANDARD
END:VTIMEZONE
BEGIN:VEVENT
DTSTART;TZID=Europe/London:20260313T091500
DTEND;TZID=Europe/London:20260313T094500
DTSTAMP:20260423T233552
CREATED:20260121T133941Z
LAST-MODIFIED:20260121T133941Z
UID:6249-1773393300-1773395100@ststephenscps.com
SUMMARY:Reception Class Mothers' Day Stay and Pray
DESCRIPTION:
URL:https://ststephenscps.com/event/reception-class-mothers-day-stay-and-pray/
END:VEVENT
BEGIN:VEVENT
DTSTART;VALUE=DATE:20260316
DTEND;VALUE=DATE:20260317
DTSTAMP:20260423T233552
CREATED:20260121T134055Z
LAST-MODIFIED:20260121T134055Z
UID:6251-1773619200-1773705599@ststephenscps.com
SUMMARY:Neurodiversity Celebration Week
DESCRIPTION:
URL:https://ststephenscps.com/event/neurodiversity-celebration-week/
END:VEVENT
BEGIN:VEVENT
DTSTART;VALUE=DATE:20260316
DTEND;VALUE=DATE:20260317
DTSTAMP:20260423T233552
CREATED:20260121T134154Z
LAST-MODIFIED:20260121T134154Z
UID:6253-1773619200-1773705599@ststephenscps.com
SUMMARY:Spring Term after school clubs finish this week
DESCRIPTION:
URL:https://ststephenscps.com/event/spring-term-after-school-clubs-finish-this-week-3/
END:VEVENT
BEGIN:VEVENT
DTSTART;TZID=Europe/London:20260318T110000
DTEND;TZID=Europe/London:20260318T120000
DTSTAMP:20260423T233552
CREATED:20260121T134515Z
LAST-MODIFIED:20260121T134515Z
UID:6255-1773831600-1773835200@ststephenscps.com
SUMMARY:Y3 Lenten Class Mass with Fr John (pupils only)
DESCRIPTION:
URL:https://ststephenscps.com/event/y3-lenten-class-mass-with-fr-john-pupils-only-3/
END:VEVENT
BEGIN:VEVENT
DTSTART;VALUE=DATE:20260320
DTEND;VALUE=DATE:20260321
DTSTAMP:20260423T233552
CREATED:20260121T134618Z
LAST-MODIFIED:20260121T134618Z
UID:6257-1773964800-1774051199@ststephenscps.com
SUMMARY:CAFOD 'Big Lent Walk' Fundraiser - all classes
DESCRIPTION:
URL:https://ststephenscps.com/event/cafod-big-lent-walk-fundraiser-all-classes/
END:VEVENT
BEGIN:VEVENT
DTSTART;TZID=Europe/London:20260325T140000
DTEND;TZID=Europe/London:20260325T180000
DTSTAMP:20260423T233552
CREATED:20260121T134805Z
LAST-MODIFIED:20260121T134805Z
UID:6259-1774447200-1774461600@ststephenscps.com
SUMMARY:Spring Term Parents' Evening in School Hall
DESCRIPTION:
URL:https://ststephenscps.com/event/spring-term-parents-evening-in-school-hall-3/
END:VEVENT
BEGIN:VEVENT
DTSTART;VALUE=DATE:20260327
DTEND;VALUE=DATE:20260328
DTSTAMP:20260423T233552
CREATED:20260121T135317Z
LAST-MODIFIED:20260121T135317Z
UID:6261-1774569600-1774655999@ststephenscps.com
SUMMARY:Y4 Residential Trip final instalment due by today
DESCRIPTION:
URL:https://ststephenscps.com/event/y4-residential-trip-final-instalment-due-by-today-2/
END:VEVENT
BEGIN:VEVENT
DTSTART;TZID=Europe/London:20260327T143000
DTEND;TZID=Europe/London:20260327T151500
DTSTAMP:20260423T233552
CREATED:20260121T140334Z
LAST-MODIFIED:20260121T140334Z
UID:6263-1774621800-1774624500@ststephenscps.com
SUMMARY:Y1 & Y4 Easter Liturgy - Palm Sunday
DESCRIPTION:
URL:https://ststephenscps.com/event/y1-y4-easter-liturgy-palm-sunday-3/
END:VEVENT
BEGIN:VEVENT
DTSTART;TZID=Europe/London:20260328T103000
DTEND;TZID=Europe/London:20260328T123000
DTSTAMP:20260423T233552
CREATED:20260121T140441Z
LAST-MODIFIED:20260121T140441Z
UID:6265-1774693800-1774701000@ststephenscps.com
SUMMARY:Y4 Holy Communion Workshops in school
DESCRIPTION:
URL:https://ststephenscps.com/event/y4-holy-communion-workshops-in-school-3/
END:VEVENT
BEGIN:VEVENT
DTSTART;TZID=Europe/London:20260330T143000
DTEND;TZID=Europe/London:20260330T151500
DTSTAMP:20260423T233552
CREATED:20260121T140605Z
LAST-MODIFIED:20260121T140605Z
UID:6267-1774881000-1774883700@ststephenscps.com
SUMMARY:Y2 & Y5 Easter Liturgy - Maundy Thursday
DESCRIPTION:
URL:https://ststephenscps.com/event/y2-y5-easter-liturgy-maundy-thursday-3/
END:VEVENT
BEGIN:VEVENT
DTSTART;TZID=Europe/London:20260331T143000
DTEND;TZID=Europe/London:20260331T151500
DTSTAMP:20260423T233552
CREATED:20260121T140715Z
LAST-MODIFIED:20260121T140715Z
UID:6269-1774967400-1774970100@ststephenscps.com
SUMMARY:Y6 Easter Liturgy - Good Friday
DESCRIPTION:
URL:https://ststephenscps.com/event/y6-easter-liturgy-good-friday-3/
END:VEVENT
BEGIN:VEVENT
DTSTART;VALUE=DATE:20260401
DTEND;VALUE=DATE:20260402
DTSTAMP:20260423T233552
CREATED:20260121T141825Z
LAST-MODIFIED:20260121T141825Z
UID:6273-1775001600-1775087999@ststephenscps.com
SUMMARY:School closes for Easter Holidays
DESCRIPTION:
URL:https://ststephenscps.com/event/school-closes-for-easter-holidays-4/
END:VEVENT
BEGIN:VEVENT
DTSTART;TZID=Europe/London:20260401T143000
DTEND;TZID=Europe/London:20260401T151500
DTSTAMP:20260423T233552
CREATED:20260121T140832Z
LAST-MODIFIED:20260121T140832Z
UID:6271-1775053800-1775056500@ststephenscps.com
SUMMARY:Reception & Y3 Easter Liturgy - Easter Sunday
DESCRIPTION:
URL:https://ststephenscps.com/event/reception-y3-easter-liturgy-easter-sunday-3/
END:VEVENT
BEGIN:VEVENT
DTSTART;VALUE=DATE:20260415
DTEND;VALUE=DATE:20260416
DTSTAMP:20260423T233552
CREATED:20260121T142648Z
LAST-MODIFIED:20260121T142648Z
UID:6275-1776211200-1776297599@ststephenscps.com
SUMMARY:School reopens after the Easter holidays
DESCRIPTION:
URL:https://ststephenscps.com/event/school-reopens-after-the-easter-holidays/
END:VEVENT
BEGIN:VEVENT
DTSTART;VALUE=DATE:20260420
DTEND;VALUE=DATE:20260421
DTSTAMP:20260423T233552
CREATED:20260420T130341Z
LAST-MODIFIED:20260420T130341Z
UID:6627-1776643200-1776729599@ststephenscps.com
SUMMARY:School reopens to all pupils
DESCRIPTION:
URL:https://ststephenscps.com/event/school-reopens-to-all-pupils/
END:VEVENT
BEGIN:VEVENT
DTSTART;VALUE=DATE:20260421
DTEND;VALUE=DATE:20260422
DTSTAMP:20260423T233552
CREATED:20260420T122101Z
LAST-MODIFIED:20260420T122202Z
UID:6584-1776729600-1776815999@ststephenscps.com
SUMMARY:Y3 Romans History trip to Chester
DESCRIPTION:
URL:https://ststephenscps.com/event/y3-romans-history-trip-to-chester/
END:VEVENT
BEGIN:VEVENT
DTSTART;TZID=Europe/London:20260423T090000
DTEND;TZID=Europe/London:20260424T151500
DTSTAMP:20260423T233552
CREATED:20260420T123531Z
LAST-MODIFIED:20260420T123532Z
UID:6586-1776934800-1777043700@ststephenscps.com
SUMMARY:Y4 Residential Trip to Tattenhall
DESCRIPTION:
URL:https://ststephenscps.com/event/y4-residential-trip-to-tattenhall-2/
END:VEVENT
BEGIN:VEVENT
DTSTART;VALUE=DATE:20260427
DTEND;VALUE=DATE:20260428
DTSTAMP:20260423T233552
CREATED:20260420T123651Z
LAST-MODIFIED:20260420T123651Z
UID:6588-1777248000-1777334399@ststephenscps.com
SUMMARY:Summer Term after school clubs begin
DESCRIPTION:
URL:https://ststephenscps.com/event/summer-term-after-school-clubs-begin/
END:VEVENT
BEGIN:VEVENT
DTSTART;TZID=Europe/London:20260428T170000
DTEND;TZID=Europe/London:20260428T190000
DTSTAMP:20260423T233552
CREATED:20260420T123756Z
LAST-MODIFIED:20260420T123756Z
UID:6590-1777395600-1777402800@ststephenscps.com
SUMMARY:Full Governing Body Meeting
DESCRIPTION:
URL:https://ststephenscps.com/event/full-governing-body-meeting-3/
END:VEVENT
BEGIN:VEVENT
DTSTART;VALUE=DATE:20260429
DTEND;VALUE=DATE:20260430
DTSTAMP:20260423T233552
CREATED:20260420T123843Z
LAST-MODIFIED:20260420T123843Z
UID:6592-1777420800-1777507199@ststephenscps.com
SUMMARY:Y3 & Y2 Forest School
DESCRIPTION:
URL:https://ststephenscps.com/event/y3-y2-forest-school/
END:VEVENT
BEGIN:VEVENT
DTSTART;TZID=Europe/London:20260430T130000
DTEND;TZID=Europe/London:20260430T140000
DTSTAMP:20260423T233552
CREATED:20260420T124000Z
LAST-MODIFIED:20260420T124000Z
UID:6594-1777554000-1777557600@ststephenscps.com
SUMMARY:Y4 Swimming Lessons begin
DESCRIPTION:
URL:https://ststephenscps.com/event/y4-swimming-lessons-begin/
END:VEVENT
BEGIN:VEVENT
DTSTART;VALUE=DATE:20260501
DTEND;VALUE=DATE:20260502
DTSTAMP:20260423T233552
CREATED:20260420T124102Z
LAST-MODIFIED:20260420T124102Z
UID:6596-1777593600-1777679999@ststephenscps.com
SUMMARY:Y6 residential trip final payment due today
DESCRIPTION:
URL:https://ststephenscps.com/event/y6-residential-trip-final-payment-due-today/
END:VEVENT
BEGIN:VEVENT
DTSTART;TZID=Europe/London:20260502T110000
DTEND;TZID=Europe/London:20260502T130000
DTSTAMP:20260423T233552
CREATED:20260420T124216Z
LAST-MODIFIED:20260420T124216Z
UID:6598-1777719600-1777726800@ststephenscps.com
SUMMARY:Y4 Holy Communion Mass
DESCRIPTION:
URL:https://ststephenscps.com/event/y4-holy-communion-mass-3/
END:VEVENT
BEGIN:VEVENT
DTSTART;VALUE=DATE:20260504
DTEND;VALUE=DATE:20260505
DTSTAMP:20260423T233552
CREATED:20260420T124306Z
LAST-MODIFIED:20260420T124306Z
UID:6600-1777852800-1777939199@ststephenscps.com
SUMMARY:Bank Holiday Monday - school closed
DESCRIPTION:
URL:https://ststephenscps.com/event/bank-holiday-monday-school-closed-2/
END:VEVENT
BEGIN:VEVENT
DTSTART;VALUE=DATE:20260506
DTEND;VALUE=DATE:20260507
DTSTAMP:20260423T233552
CREATED:20260420T124400Z
LAST-MODIFIED:20260420T124400Z
UID:6602-1778025600-1778111999@ststephenscps.com
SUMMARY:Y4 & Y1 Forest School
DESCRIPTION:
URL:https://ststephenscps.com/event/y4-y1-forest-school/
END:VEVENT
BEGIN:VEVENT
DTSTART;VALUE=DATE:20260508
DTEND;VALUE=DATE:20260509
DTSTAMP:20260423T233552
CREATED:20260420T124453Z
LAST-MODIFIED:20260420T124453Z
UID:6604-1778198400-1778284799@ststephenscps.com
SUMMARY:Y3 & Y5 Forest School
DESCRIPTION:
URL:https://ststephenscps.com/event/y3-y5-forest-school/
END:VEVENT
BEGIN:VEVENT
DTSTART;VALUE=DATE:20260511
DTEND;VALUE=DATE:20260512
DTSTAMP:20260423T233552
CREATED:20260420T124547Z
LAST-MODIFIED:20260420T124547Z
UID:6606-1778457600-1778543999@ststephenscps.com
SUMMARY:Mental Health Awareness Week
DESCRIPTION:
URL:https://ststephenscps.com/event/mental-health-awareness-week/
END:VEVENT
BEGIN:VEVENT
DTSTART;TZID=Europe/London:20260511T090000
DTEND;TZID=Europe/London:20260514T120000
DTSTAMP:20260423T233552
CREATED:20260420T124740Z
LAST-MODIFIED:20260420T124740Z
UID:6608-1778490000-1778760000@ststephenscps.com
SUMMARY:Y6 SATs Week
DESCRIPTION:
URL:https://ststephenscps.com/event/y6-sats-week-2/
END:VEVENT
BEGIN:VEVENT
DTSTART;VALUE=DATE:20260512
DTEND;VALUE=DATE:20260513
DTSTAMP:20260423T233552
CREATED:20260420T124831Z
LAST-MODIFIED:20260420T124831Z
UID:6610-1778544000-1778630399@ststephenscps.com
SUMMARY:Y4 & Y1 Forest School
DESCRIPTION:
URL:https://ststephenscps.com/event/y4-y1-forest-school-2/
END:VEVENT
BEGIN:VEVENT
DTSTART;TZID=Europe/London:20260514T110000
DTEND;TZID=Europe/London:20260514T120000
DTSTAMP:20260423T233552
CREATED:20260420T125012Z
LAST-MODIFIED:20260420T125012Z
UID:6612-1778756400-1778760000@ststephenscps.com
SUMMARY:Mass for Ascension & First Holy Communion
DESCRIPTION:
URL:https://ststephenscps.com/event/mass-for-ascension-first-holy-communion/
END:VEVENT
END:VCALENDAR