BEGIN:VCALENDAR
VERSION:2.0
PRODID:-//St Stephen&#039;s Catholic Primary School - ECPv6.15.19//NONSGML v1.0//EN
CALSCALE:GREGORIAN
METHOD:PUBLISH
X-WR-CALNAME:St Stephen&#039;s Catholic Primary School
X-ORIGINAL-URL:https://ststephenscps.com
X-WR-CALDESC:Events for St Stephen&#039;s Catholic Primary School
REFRESH-INTERVAL;VALUE=DURATION:PT1H
X-Robots-Tag:noindex
X-PUBLISHED-TTL:PT1H
BEGIN:VTIMEZONE
TZID:Europe/London
BEGIN:DAYLIGHT
TZOFFSETFROM:+0000
TZOFFSETTO:+0100
TZNAME:BST
DTSTART:20250330T010000
END:DAYLIGHT
BEGIN:STANDARD
TZOFFSETFROM:+0100
TZOFFSETTO:+0000
TZNAME:GMT
DTSTART:20251026T010000
END:STANDARD
BEGIN:DAYLIGHT
TZOFFSETFROM:+0000
TZOFFSETTO:+0100
TZNAME:BST
DTSTART:20260329T010000
END:DAYLIGHT
BEGIN:STANDARD
TZOFFSETFROM:+0100
TZOFFSETTO:+0000
TZNAME:GMT
DTSTART:20261025T010000
END:STANDARD
BEGIN:DAYLIGHT
TZOFFSETFROM:+0000
TZOFFSETTO:+0100
TZNAME:BST
DTSTART:20270328T010000
END:DAYLIGHT
BEGIN:STANDARD
TZOFFSETFROM:+0100
TZOFFSETTO:+0000
TZNAME:GMT
DTSTART:20271031T010000
END:STANDARD
END:VTIMEZONE
BEGIN:VEVENT
DTSTART;TZID=Europe/London:20260423T090000
DTEND;TZID=Europe/London:20260424T151500
DTSTAMP:20260423T231411
CREATED:20260420T123531Z
LAST-MODIFIED:20260420T123532Z
UID:6586-1776934800-1777043700@ststephenscps.com
SUMMARY:Y4 Residential Trip to Tattenhall
DESCRIPTION:
URL:https://ststephenscps.com/event/y4-residential-trip-to-tattenhall-2/
END:VEVENT
BEGIN:VEVENT
DTSTART;VALUE=DATE:20260427
DTEND;VALUE=DATE:20260428
DTSTAMP:20260423T231411
CREATED:20260420T123651Z
LAST-MODIFIED:20260420T123651Z
UID:6588-1777248000-1777334399@ststephenscps.com
SUMMARY:Summer Term after school clubs begin
DESCRIPTION:
URL:https://ststephenscps.com/event/summer-term-after-school-clubs-begin/
END:VEVENT
BEGIN:VEVENT
DTSTART;TZID=Europe/London:20260428T170000
DTEND;TZID=Europe/London:20260428T190000
DTSTAMP:20260423T231411
CREATED:20260420T123756Z
LAST-MODIFIED:20260420T123756Z
UID:6590-1777395600-1777402800@ststephenscps.com
SUMMARY:Full Governing Body Meeting
DESCRIPTION:
URL:https://ststephenscps.com/event/full-governing-body-meeting-3/
END:VEVENT
BEGIN:VEVENT
DTSTART;VALUE=DATE:20260429
DTEND;VALUE=DATE:20260430
DTSTAMP:20260423T231411
CREATED:20260420T123843Z
LAST-MODIFIED:20260420T123843Z
UID:6592-1777420800-1777507199@ststephenscps.com
SUMMARY:Y3 & Y2 Forest School
DESCRIPTION:
URL:https://ststephenscps.com/event/y3-y2-forest-school/
END:VEVENT
BEGIN:VEVENT
DTSTART;TZID=Europe/London:20260430T130000
DTEND;TZID=Europe/London:20260430T140000
DTSTAMP:20260423T231411
CREATED:20260420T124000Z
LAST-MODIFIED:20260420T124000Z
UID:6594-1777554000-1777557600@ststephenscps.com
SUMMARY:Y4 Swimming Lessons begin
DESCRIPTION:
URL:https://ststephenscps.com/event/y4-swimming-lessons-begin/
END:VEVENT
END:VCALENDAR